Workbook
Name DTM: Home!$D$2

Sheet Home
D2: 46287
B4: Forfaitaire binnenlandse dagvergoeding
B18: Nota van de redactie | D18: Rekentool | F18: Checklist
B19: } Klik hier | D19: } Klik hier | F19: } Klik hier
B21: Heeft u een vraag of een opmerking over deze rekenmodule? Contacteer de redactie! | F21: } Mail de redactie
B23: Personaliseer uw berekeningen! De filenaam waarmee u de tool bewaart, verschijnt in de header van de geprinte versie.
B24: Open de checklists met Adobe Acrobat Reader om ze optimaal te kunnen gebruiken.
B26: Lefebvre Sarrut Belgium NV | Hoogstraat 139 - Bus 6 | 1000 Brussel | T 0800 39 067 | F26: } copyright
F27: } disclaimer

Sheet 1
B2: Reisvergoedingen binnenland | F2: Ç | G2: i | H2: Å | I2: Æ
B4: Reisvergoedingen binnenland
B5: Voor beroepsmatige verplaatsingen in België, bv. naar klanten of prospecten, kunt u een onkostenvergoeding uitkeren voor ‘het eten en drinken onderweg’ zonder dat uw medewerker(s) of uzelf ticketjes of bonnetjes moet bijhouden als bewijs. Die forfaitaire vergoeding kunt u betalen per dag dat u of uw medewerker(s) ten minste zes uur onderweg zijn. Zolang de dagvergoeding niet hoger is dan het bedrag van de gelijkaardige vergoeding die ambtenaren krijgen, vormt ze voor u of uw medewerker(s) geen belastbaar inkomen, en voor uw vennootschap is ze 100% aftrekbaar als zgn. terugbetaling van kosten die eigen zijn aan haar.
B6: De vergoeding van de ambtenaren is op 1 september 2026 geïndexeerd tot € 22,08 in plaats van € 21,64
B7: Als u zo goed als dagelijks beroepsmatig de baan op moet, geldt net als voor de ambtenaren het maximumbedrag van € 353,30 (dus beperkt tot 16 dagen x € 22,08) per maand, maar in dat geval geldt de voorwaarde van de zes uur niet.
B8: Bent u voor uw werk in één kalenderjaar 40 dagen of meer aanwezig op één bepaalde plaats, lees: bij één klant, dan is die plaats volgens de fiscus een zgn. vaste plaats van tewerkstelling. U mag zich dan geen dagvergoeding toekennen voor de dagen bij die klant.
B9: Voor werknemers en zelfstandige bedrijfsleiders is de forfaitaire dagvergoeding dus vanaf 1 september 2026 tot € 22,08 vrij van belasting, maar voor de RSZ wordt het stuk boven € 17 per dag dat u aan werknemers uitkeert, beschouwd als loon!
B10: Het effectieve bedrag van de dagvergoedingen en andere onkostenvergoedingen die u toekent in 2026 zal vermeld moeten worden op de fiche 281, die begin 2027 opgesteld moet worden.
B12: Overzicht van de tarieven
B13: Periode | C13: Reisvergoeding binnenland zonder overnachting | D13: Reisvergoeding binnenland met overnachting (niet kosteloos)
C14: Dit stemt overeen met de forfaitaire vergoeding voor een middagmaal | D14: Dit stemt overeen met een forfaitaire vergoeding voor een avondmaal plus overnachting en ontbijt
B15: van 1 februari 2022 tot en met 31 maart 2022 | C15: 18.11 | D15: 135.85
B16: van 1 april 2022 tot en met 31 mei 2022 | C16: 18.47 | D16: 138.57
B17: van 1 juni 2022 tot en met 31 augustus 2022 | C17: 18.84 | D17: 141.33
B18: van 1 september 2022 tot en met 30 november 2022 | C18: 19.22 | D18: 144.16
B19: van 1 december 2022 tot en met 31 december 2022 | C19: 19.6 | D19: 147.05
B20: van 1 januari 2023 tot en met 30 november 2023 | C20: 19.99 | D20: 149.99
B21: van 1 december 2023 tot en met 31 mei 2024 | C21: 20.39 | D21: 152.99
B22: van 1 juni 2024 tot 28 februari 2025 | C22: 20.8 | D22: 156.05
B23: van 1 maart 2025 tot 28 februari 2026 | C23: 21.22 | D23: 159.17
B24: van 1 maart 2026 tot 31 augustus 2026 | C24: 21.64 | D24: 162.35
B25: vanaf 1 september 2026 | C25: 22.08 | D25: 165.6
B27: Opmerking
B28: De reisvergoeding met overnachting sluit die zonder overnachting uiteraard niet uit. U vertrekt bv. maandagmorgen naar een klant in Aarlen. U neemt onderweg een lunch en 's avonds overnacht u ter plaatse, inclusief avondmaal en ontbijt.
B29: ="U heeft dan recht op € "&C25&" voor uw middagmaal én € "&D25&" voor de overnachting, ofwel € "&C25+D25&"." -> U heeft dan recht op € 22,08 voor uw middagmaal én € 165,6 voor de overnachting, ofwel € 187,68.
B31: Maak bij voorkeur voor elke binnenlandse reisvergoeding een onkostennota op om bij de administratie van uw vennootschap te voegen. Bij een latere fiscale controle zullen die nota's dan dienstig zijn als verantwoording.
B33: Klik hier voor een in te vullen en af te drukken onkostennota

Sheet 2
B2: Onkostennota binnenlandse reisvergoeding | N2: Ç | O2: i | P2: Å | Q2: Æ
B4: nr. | C4: Vertrek | E4: Terugkeer | G4: Traject | H4: Doel | I4: Middagmalen | K4: Overnachtingen
C5: Datum | D5: uur | E5: Datum | F5: uur | I5: Aantal | J5: Tarief obv vertrekdatum | K5: Aantal | L5: Tarief obv vertrekdatum
B6: 1 | C6: =TODAY() -> 46316 | J6: =IFERROR(VLOOKUP(C6,calc!$B$3:$D$12,2),"-") -> 22.08 | L6: =IFERROR(VLOOKUP(C6,calc!$B$3:$D$12,3),"-") -> 165.6
B7: 2 | J7: =IFERROR(VLOOKUP(C7,calc!$B$3:$D$12,2),"-") -> - | L7: =IFERROR(VLOOKUP(C7,calc!$B$3:$D$12,3),"-") -> -
B8: 3 | J8: =IFERROR(VLOOKUP(C8,calc!$B$3:$D$12,2),"-") -> - | L8: =IFERROR(VLOOKUP(C8,calc!$B$3:$D$12,3),"-") -> -
B9: 4 | J9: =IFERROR(VLOOKUP(C9,calc!$B$3:$D$12,2),"-") -> - | L9: =IFERROR(VLOOKUP(C9,calc!$B$3:$D$12,3),"-") -> -
B10: 5 | J10: =IFERROR(VLOOKUP(C10,calc!$B$3:$D$12,2),"-") -> - | L10: =IFERROR(VLOOKUP(C10,calc!$B$3:$D$12,3),"-") -> -
B11: 6 | J11: =IFERROR(VLOOKUP(C11,calc!$B$3:$D$12,2),"-") -> - | L11: =IFERROR(VLOOKUP(C11,calc!$B$3:$D$12,3),"-") -> -
B12: 7 | J12: =IFERROR(VLOOKUP(C12,calc!$B$3:$D$12,2),"-") -> - | L12: =IFERROR(VLOOKUP(C12,calc!$B$3:$D$12,3),"-") -> -
B13: 8 | J13: =IFERROR(VLOOKUP(C13,calc!$B$3:$D$12,2),"-") -> - | L13: =IFERROR(VLOOKUP(C13,calc!$B$3:$D$12,3),"-") -> -
B14: 9 | J14: =IFERROR(VLOOKUP(C14,calc!$B$3:$D$12,2),"-") -> - | L14: =IFERROR(VLOOKUP(C14,calc!$B$3:$D$12,3),"-") -> -
B15: 10 | J15: =IFERROR(VLOOKUP(C15,calc!$B$3:$D$12,2),"-") -> - | L15: =IFERROR(VLOOKUP(C15,calc!$B$3:$D$12,3),"-") -> -
B16: Naam | H16: Betalen op bankrekening
B17: Datum | H17: Voor goedkeuring
B18: Handtekening | H18: Totaal te betalen | J18: =SUMPRODUCT(I6:I15,J6:J15)+SUMPRODUCT(K6:K15,L6:L15) -> 0

Sheet calc
B2: vanaf | C2: zonder overnachting | D2: met overnachting
B3: 44652 | C3: 18.47 | D3: 138.57
B4: 44713 | C4: 18.84 | D4: 141.33
B5: 44805 | C5: 19.22 | D5: 144.16
B6: 44896 | C6: 19.6 | D6: 147.05
B7: 44927 | C7: 19.99 | D7: 149.99
B8: 45261 | C8: 20.39 | D8: 152.99
B9: 45444 | C9: 20.8 | D9: 156.05
B10: 45717 | C10: 21.22 | D10: 159.17
B11: 46082 | C11: 21.64 | D11: 162.35
B12: 46266 | C12: 22.08 | D12: 165.6

Sheet Home FR
D2: =DTM -> 46287
B4: Indemnité journalière forfaitaire - déplacement en Belgique
B18: Note de la rédaction | D18: Outil de calcul | F18: Checklist
B19: } Cliquez ici | D19: } Cliquez ici | F19: } Cliquez ici
B21: Avez-vous une question ou une remarque concernant cet outil de calcul ? Contactez la rédaction ! | F21: } E-mail à la rédaction
B23: Personnalisez vos calculs ! Le nom de fichier que vous utilisez pour enregistrer l'outil apparaît dans l'en-tête de la version imprimée.
B24: Ouvrez les checklists avec Adobe Acrobat Reader pour les utiliser de manière optimale.
B26: Lefebvre Sarrut Belgium SA | Rue Haute 139 - Boite 6 | 1000 Bruxelles | T 0800 39 067 | F26: } copyright
F27: } disclaimer

Sheet 1FR
B2: Indemnités de déplacement en Belgique | F2: Ç | G2: i | H2: Å | I2: Æ
B4: Indemnités de déplacement en Belgique
B5: Si les dirigeants effectuent un déplacement professionnel en Belgique d'au moins six heures, ils peuvent alors bénéficier d'une indemnité journalière forfaitaire pour les frais de repas sur la route. Ce frais est totalement déductible pour la société et le dirigeant n'est pas imposé à l'IPP sur celle-ci (Circ. 2018/C/8, 22.01.2018). Il ne faut pas non plus payer de cotisations sociales.
B6: Depuis le 1er mars 2026, vous pouvez vous accorder 22,08€ par jour. Si vous êtes (presque) tous les jours sur la route, vous pouvez vous accorder une indemnité mensuelle maximale de 353,30€ (16 x 22,08€). Dans ce cas, la condition de 6 heures minimum ne s'applique pas.
B7: Aussi pour vos travailleurs? Oui, mais l'ONSS n'accepte pas ces forfaits du fisc et applique son propre forfait de 17€. Afin d'éviter des problèmes avec l'ONSS, limitez-vous à 17€ pour vos travailleurs.
B8: Si, en tant que dirigant (ou votre employé), vous devez passer une nuit en Belgique, vous pouvez soit prendre en charge la note d'hôtel, soit accorder une indemnité de nuit forfaitaire de maximum 165,60€. Vous ne pouvez bénéficier de cette indemnité que si vous travaillez avec une société. Si vous avez une entreprise individuelle, vous devrez donc toujours prouver vos frais réels.
B10: Aperçu des taux
B11: Période | C11: Indemnité pour un déplacement en Belgique sans nuitée | D11: Indemnité pour un déplacement en Belgique avec nuitée (non gratuite)
C12: Cela correspond à l'indemnité forfaitaire pour un repas de midi. | D12: Cela correspond à l'indemnité forfaitaire pour un repas du soir, une nuit et un petit déjeuner.
B13: du 1 février 2022 jusqu'au 31 mars 2022 | C13: 18.11 | D13: 135.85
B14: du 1 avril 2022 jusqu'au 31 may 2022 | C14: 18.47 | D14: 138.57
B15: du 1 juin 2022 jusqu'au 31 août 2022 | C15: 18.84 | D15: 141.33
B16: du 1 septembre 2022 jusqu'au 30 novembre 2022 | C16: 19.22 | D16: 144.16
B17: du 1 décembre 2022 jusqu'au 31 décembre 2022 | C17: 19.6 | D17: 147.05
B18: du 1 janvier 2023 jusqu'au 30 novembre 2023 | C18: 19.99 | D18: 149.99
B19: du 1 décembre 2023 jusqu'au 31 mai 2024 | C19: 20.39 | D19: 152.99
B20: du 1 juin 2024 jusqu'au 28 février 2025 | C20: 20.8 | D20: 156.05
B21: du 1 mars 2025 jusqu'au 28 février 2026 | C21: 21.22 | D21: 159.17
B22: du 1 mars 2026 jusqu'au 31 août 2026 | C22: 21.64 | D22: 162.35
B23: à partir du 1 septembre 2026 | C23: 22.08 | D23: 165.6
B25: Remarque
B26: L'indemnité de déplacement avec nuitée n'exclut bien évidemment pas celle sans nuitée. Si vous partez chez un client à Arlon le lundi matin, que vous prenez un lunch en route et que vous passez la nuit sur place, en prenant un repas du soir et un petit déjeuner.
B27: ="Vous avez alors droit à € "&C23&" pour le repas de midi et € "&D23&" pour la nuitée, soit € "&C23+D23&" au total." -> Vous avez alors droit à € 22,08 pour le repas de midi et € 165,6 pour la nuitée, soit € 187,68 au total.
B28: Établissez de préférence une note de frais pour chaque déplacement, et conservez-la dans votre comptabilité. Elle vous servira de justificatif en cas de contrôle.
B30: Cliquez ici pour remplir et imprimer une note de frais

Sheet 2FR
B2: Note de frais pour un déplacement en Belgique | N2: Ç | O2: i | P2: Å | Q2: Æ
B4: no. | C4: Départ | E4: Retour | G4: Trajet | H4: Objet du déplacement | I4: Repas de midi | K4: Nuitées
C5: Date | D5: heure | E5: Date | F5: heure | I5: Nombre | J5: Tarif | K5: Nombre | L5: Tarif
B6: 1 | C6: =TODAY() -> 46316 | J6: =IFERROR(VLOOKUP(C6,calcFR!$B$3:$D$12,2),"-") -> 22.08 | L6: =IFERROR(VLOOKUP(C6,calcFR!$B$3:$D$12,3),"-") -> 165.6
B7: 2 | J7: =IFERROR(VLOOKUP(C7,calcFR!$B$3:$D$12,2),"-") -> - | L7: =IFERROR(VLOOKUP(C7,calcFR!$B$3:$D$12,3),"-") -> -
B8: 3 | J8: =IFERROR(VLOOKUP(C8,calcFR!$B$3:$D$12,2),"-") -> - | L8: =IFERROR(VLOOKUP(C8,calcFR!$B$3:$D$12,3),"-") -> -
B9: 4 | J9: =IFERROR(VLOOKUP(C9,calcFR!$B$3:$D$12,2),"-") -> - | L9: =IFERROR(VLOOKUP(C9,calcFR!$B$3:$D$12,3),"-") -> -
B10: 5 | J10: =IFERROR(VLOOKUP(C10,calcFR!$B$3:$D$12,2),"-") -> - | L10: =IFERROR(VLOOKUP(C10,calcFR!$B$3:$D$12,3),"-") -> -
B11: 6 | J11: =IFERROR(VLOOKUP(C11,calcFR!$B$3:$D$12,2),"-") -> - | L11: =IFERROR(VLOOKUP(C11,calcFR!$B$3:$D$12,3),"-") -> -
B12: 7 | J12: =IFERROR(VLOOKUP(C12,calcFR!$B$3:$D$12,2),"-") -> - | L12: =IFERROR(VLOOKUP(C12,calcFR!$B$3:$D$12,3),"-") -> -
B13: 8 | J13: =IFERROR(VLOOKUP(C13,calcFR!$B$3:$D$12,2),"-") -> - | L13: =IFERROR(VLOOKUP(C13,calcFR!$B$3:$D$12,3),"-") -> -
B14: 9 | J14: =IFERROR(VLOOKUP(C14,calcFR!$B$3:$D$12,2),"-") -> - | L14: =IFERROR(VLOOKUP(C14,calcFR!$B$3:$D$12,3),"-") -> -
B15: 10 | J15: =IFERROR(VLOOKUP(C15,calcFR!$B$3:$D$12,2),"-") -> - | L15: =IFERROR(VLOOKUP(C15,calcFR!$B$3:$D$12,3),"-") -> -
B16: Nom | H16: Á payer sur compte en banque
B17: Date | H17: Autorisation
B18: Signature | H18: Total à payer | J18: =SUMPRODUCT(I6:I15,J6:J15)+SUMPRODUCT(K6:K15,L6:L15) -> 0

Sheet calcFR
B2: vanaf | C2: zonder overnachting | D2: met overnachting
B3: 44652 | C3: 18.47 | D3: 138.57
B4: 44713 | C4: 18.84 | D4: 141.33
B5: 44805 | C5: 19.22 | D5: 144.16
B6: 44896 | C6: 19.6 | D6: 147.05
B7: 44927 | C7: 19.99 | D7: 149.99
B8: 45261 | C8: 20.39 | D8: 152.99
B9: 45444 | C9: 20.8 | D9: 156.05
B10: 45717 | C10: 21.22 | D10: 159.17
B11: 46082 | C11: 21.64 | D11: 162.35
B12: 46266 | C12: 22.08 | D12: 165.6

Sheet Home B
B2: {=DTM} -> 46287
B4: Forfaitaire binnenlandse dagvergoeding
B17: Rekentool
B18: } Klik hier
B21: Heeft u een vraag of een opmerking over deze rekenmodule? Contacteer de redactie! | F21: } Mail de redactie
B23: Personaliseer uw berekeningen! De filenaam waarmee u de tool bewaart, verschijnt in de header van de geprinte versie.
B24: Open de checklists met Adobe Acrobat Reader om ze optimaal te kunnen gebruiken.
B26: Lefebvre Sarrut Belgium NV | Hoogstraat 139 - Bus 6 | 1000 Brussel | T 0800 39 067 | F26: } copyright
F27: } disclaimer

Sheet 1B
B2: Onkostennota binnenlandse reisvergoeding | N2: Ç | O2: i | P2: Å | Q2: Æ
B4: nr. | C4: Vertrek | E4: Terugkeer | G4: Traject | H4: Doel | I4: Middagmalen | K4: Overnachtingen
C5: Datum | D5: uur | E5: Datum | F5: uur | I5: Aantal | J5: Tarief obv vertrekdatum | K5: Aantal | L5: Tarief obv vertrekdatum | N5: i
B6: 1 | C6: =TODAY() -> 46316 | I6: 1 | J6: =IFERROR(VLOOKUP(C6,calcB!$B$3:$D$12,2),"-") -> 22.08 | K6: 1 | L6: =IFERROR(VLOOKUP(C6,calcB!$B$3:$D$12,3),"-") -> 165.6
B7: 2 | J7: =IFERROR(VLOOKUP(C7,calcB!$B$3:$D$12,2),"-") -> - | L7: =IFERROR(VLOOKUP(C7,calcB!$B$3:$D$12,3),"-") -> -
B8: 3 | J8: =IFERROR(VLOOKUP(C8,calcB!$B$3:$D$12,2),"-") -> - | L8: =IFERROR(VLOOKUP(C8,calcB!$B$3:$D$12,3),"-") -> -
B9: 4 | J9: =IFERROR(VLOOKUP(C9,calcB!$B$3:$D$12,2),"-") -> - | L9: =IFERROR(VLOOKUP(C9,calcB!$B$3:$D$12,3),"-") -> -
B10: 5 | J10: =IFERROR(VLOOKUP(C10,calcB!$B$3:$D$12,2),"-") -> - | L10: =IFERROR(VLOOKUP(C10,calcB!$B$3:$D$12,3),"-") -> -
B11: 6 | J11: =IFERROR(VLOOKUP(C11,calcB!$B$3:$D$12,2),"-") -> - | L11: =IFERROR(VLOOKUP(C11,calcB!$B$3:$D$12,3),"-") -> -
B12: 7 | J12: =IFERROR(VLOOKUP(C12,calcB!$B$3:$D$12,2),"-") -> - | L12: =IFERROR(VLOOKUP(C12,calcB!$B$3:$D$12,3),"-") -> -
B13: 8 | J13: =IFERROR(VLOOKUP(C13,calcB!$B$3:$D$12,2),"-") -> - | L13: =IFERROR(VLOOKUP(C13,calcB!$B$3:$D$12,3),"-") -> -
B14: 9 | J14: =IFERROR(VLOOKUP(C14,calcB!$B$3:$D$12,2),"-") -> - | L14: =IFERROR(VLOOKUP(C14,calcB!$B$3:$D$12,3),"-") -> -
B15: 10 | J15: =IFERROR(VLOOKUP(C15,calcB!$B$3:$D$12,2),"-") -> - | L15: =IFERROR(VLOOKUP(C15,calcB!$B$3:$D$12,3),"-") -> -
B16: Naam | H16: Betalen op bankrekening
B17: Datum | H17: Voor goedkeuring
B18: Handtekening | H18: Totaal te betalen | J18: =SUMPRODUCT(I6:I15,J6:J15)+SUMPRODUCT(K6:K15,L6:L15) -> 187.68

Sheet 2B
B2: Reisvergoedingen binnenland | F2: Ç | G2: i | H2: Å | I2: Æ
B4: Overzicht van de tarieven
B5: Periode | C5: Reisvergoeding binnenland zonder overnachting | D5: Reisvergoeding binnenland met overnachting (niet kosteloos)
C6: Dit stemt overeen met de forfaitaire vergoeding voor een middagmaal | D6: Dit stemt overeen met een forfaitaire vergoeding voor een avondmaal plus overnachting en ontbijt
B7: van 1 februari 2022 tot en met 31 maart 2022 | C7: 18.11 | D7: 135.85
B8: van 1 april 2022 tot en met 31 mei 2022 | C8: 18.47 | D8: 138.57
B9: van 1 juni 2022 tot en met 31 augustus 2022 | C9: 18.84 | D9: 141.33
B10: van 1 september 2022 tot en met 30 november 2022 | C10: 19.22 | D10: 144.16
B11: van 1 december 2022 tot en met 31 december 2022 | C11: 19.6 | D11: 147.05
B12: van 1 januari 2023 tot en met 30 november 2023 | C12: 19.99 | D12: 149.99
B13: van 1 december 2023 tot en met 31 mei 2024 | C13: 20.39 | D13: 152.99
B14: van 1 juni 2024 tot 28 februari 2025 | C14: 20.8 | D14: 156.05
B15: van 1 maart 2025 tot 28 februari 2026 | C15: 21.22 | D15: 159.17
B16: van 1 maart 2026 tot 31 augustus 2026 | C16: 21.64 | D16: 162.35
B17: vanaf 1 september 2026 | C17: 22.08 | D17: 165.6

Sheet calcB
B2: vanaf | C2: zonder overnachting | D2: met overnachting
B3: 44652 | C3: 18.47 | D3: 138.57
B4: 44713 | C4: 18.84 | D4: 141.33
B5: 44805 | C5: 19.22 | D5: 144.16
B6: 44896 | C6: 19.6 | D6: 147.05
B7: 44927 | C7: 19.99 | D7: 149.99
B8: 45261 | C8: 20.39 | D8: 152.99
B9: 45444 | C9: 20.8 | D9: 156.05
B10: 45717 | C10: 21.22 | D10: 159.17
B11: 46082 | C11: 21.64 | D11: 162.35
B12: 46266 | C12: 22.08 | D12: 165.6

Sheet Home FR B
B2: =_xlfn.SINGLE(DTM) -> 46287
B4: Indemnité journalière forfaitaire - déplacement en Belgique
B17: Outil de calcul
B18: } Cliquez ici
B21: Avez-vous une question ou une remarque concernant cet outil de calcul ? Contactez la rédaction ! | F21: } E-mail à la rédaction
B23: Personnalisez vos calculs ! Le nom de fichier que vous utilisez pour enregistrer l'outil apparaît dans l'en-tête de la version imprimée.
B24: Ouvrez les checklists avec Adobe Acrobat Reader pour les utiliser de manière optimale.
B26: Lefebvre Sarrut Belgium SA | Rue Haute 139 - Boite 6 | 1000 Bruxelles | T 0800 39 067 | F26: } copyright
F27: } disclaimer

Sheet 1FRB
B2: Note de frais pour un déplacement en Belgique | N2: Ç | O2: i | P2: Å | Q2: Æ
B4: ='1B'!B4 -> nr. | C4: Départ | E4: Retour | G4: Trajet | H4: Objet du déplacement | I4: Repas de midi | K4: Nuitées
C5: Date | D5: heure | E5: Date | F5: heure | I5: Nombre | J5: Tarif | K5: Nombre | L5: Tarif | N5: i
B6: 1 | C6: =TODAY() -> 46316 | J6: =IFERROR(VLOOKUP(C6,calcFRB!$B$3:$D$12,2),"-") -> 22.08 | L6: =IFERROR(VLOOKUP(C6,calcFRB!$B$3:$D$12,3),"-") -> 165.6
B7: 2 | J7: =IFERROR(VLOOKUP(C7,calcFRB!$B$3:$D$12,2),"-") -> - | L7: =IFERROR(VLOOKUP(C7,calcFRB!$B$3:$D$12,3),"-") -> -
B8: 3 | J8: =IFERROR(VLOOKUP(C8,calcFRB!$B$3:$D$12,2),"-") -> - | L8: =IFERROR(VLOOKUP(C8,calcFRB!$B$3:$D$12,3),"-") -> -
B9: 4 | J9: =IFERROR(VLOOKUP(C9,calcFRB!$B$3:$D$12,2),"-") -> - | L9: =IFERROR(VLOOKUP(C9,calcFRB!$B$3:$D$12,3),"-") -> -
B10: 5 | J10: =IFERROR(VLOOKUP(C10,calcFRB!$B$3:$D$12,2),"-") -> - | L10: =IFERROR(VLOOKUP(C10,calcFRB!$B$3:$D$12,3),"-") -> -
B11: 6 | J11: =IFERROR(VLOOKUP(C11,calcFRB!$B$3:$D$12,2),"-") -> - | L11: =IFERROR(VLOOKUP(C11,calcFRB!$B$3:$D$12,3),"-") -> -
B12: 7 | J12: =IFERROR(VLOOKUP(C12,calcFRB!$B$3:$D$12,2),"-") -> - | L12: =IFERROR(VLOOKUP(C12,calcFRB!$B$3:$D$12,3),"-") -> -
B13: 8 | J13: =IFERROR(VLOOKUP(C13,calcFRB!$B$3:$D$12,2),"-") -> - | L13: =IFERROR(VLOOKUP(C13,calcFRB!$B$3:$D$12,3),"-") -> -
B14: 9 | J14: =IFERROR(VLOOKUP(C14,calcFRB!$B$3:$D$12,2),"-") -> - | L14: =IFERROR(VLOOKUP(C14,calcFRB!$B$3:$D$12,3),"-") -> -
B15: 10 | J15: =IFERROR(VLOOKUP(C15,calcFRB!$B$3:$D$12,2),"-") -> - | L15: =IFERROR(VLOOKUP(C15,calcFRB!$B$3:$D$12,3),"-") -> -
B16: Nom | H16: Á payer sur compte en banque
B17: Date | H17: Autorisation
B18: Signature | H18: Total à payer | J18: =SUMPRODUCT(I6:I15,J6:J15)+SUMPRODUCT(K6:K15,L6:L15) -> 0

Sheet 2FRB
B2: Indemnités de déplacement en Belgique | F2: Ç | G2: i | H2: Å | I2: Æ
B4: Aperçu des taux
B5: Période | C5: Indemnité pour un déplacement en Belgique sans nuitée | D5: Indemnité pour un déplacement en Belgique avec nuitée (non gratuite)
C6: Cela correspond à l'indemnité forfaitaire pour un repas de midi. | D6: Cela correspond à l'indemnité forfaitaire pour un repas du soir, une nuit et un petit déjeuner.
B7: du 1 février 2022 jusqu'au 31 mars 2022 | C7: 18.11 | D7: 135.85
B8: du 1 avril 2022 jusqu'au 31 may 2022 | C8: 18.47 | D8: 138.57
B9: du 1 juin 2022 jusqu'au 31 août 2022 | C9: 18.84 | D9: 141.33
B10: du 1 septembre 2022 jusqu'au 30 novembre 2022 | C10: 19.22 | D10: 144.16
B11: du 1 décembre 2022 jusqu'au 31 décembre 2022 | C11: 19.6 | D11: 147.05
B12: du 1 janvier 2023 jusqu'au 30 novembre 2023 | C12: 19.99 | D12: 149.99
B13: du 1 décembre 2023 jusqu'au 31 mai 2024 | C13: 20.39 | D13: 152.99
B14: du 1 juin 2024 jusqu'au 28 février 2025 | C14: 20.8 | D14: 156.05
B15: du 1 mars 2025 jusqu'au 28 février 2026 | C15: 21.22 | D15: 159.17
B16: du 1 mars 2026 jusqu'au 31 août 2026 | C16: 21.64 | D16: 162.35
B17: à partir du 1 septembre 2026 | C17: 22.08 | D17: 165.6

Sheet calcFRB
B2: vanaf | C2: zonder overnachting | D2: met overnachting
B3: 44652 | C3: 18.47 | D3: 138.57
B4: 44713 | C4: 18.84 | D4: 141.33
B5: 44805 | C5: 19.22 | D5: 144.16
B6: 44896 | C6: 19.6 | D6: 147.05
B7: 44927 | C7: 19.99 | D7: 149.99
B8: 45261 | C8: 20.39 | D8: 152.99
B9: 45444 | C9: 20.8 | D9: 156.05
B10: 45717 | C10: 21.22 | D10: 159.17
B11: 46082 | C11: 21.64 | D11: 162.35
B12: 46266 | C12: 22.08 | D12: 165.6

Sheet EDISEC
B2: {=CELL("filename")} -> https://els1-my.sharepoint.com/personal/j_mussche_larcier-intersentia_be/Documents/Bureau/[Forfaitaire binnenlandse dagvergoeding (1).xlsx]Home B | E2: 127 | F2: =LEFT(B2,E2) -> https://els1-my.sharepoint.com/personal/j_mussche_larcier-intersentia_be/Documents/Bureau/[Forfaitaire binnenlandse dagvergoedi
B4: FILENAME VL TAXIQ | C4: =$F$2&"TIQ/"&D16 -> https://els1-my.sharepoint.com/personal/j_mussche_larcier-intersentia_be/Documents/Bureau/[Forfaitaire binnenlandse dagvergoediTIQ/Forfaitaire binnenlandse dagvergoeding.xlsx | E4: =LEN(C4) -> 174
B5: FILENAME WA TAXIQ | C5: =$F$2&"TIQ/"&D25 -> https://els1-my.sharepoint.com/personal/j_mussche_larcier-intersentia_be/Documents/Bureau/[Forfaitaire binnenlandse dagvergoediTIQ/ Indemnité journalière forfaitaire pour un déplacement en Belgique.xlsx | E5: =LEN(C5) -> 202
B6: FILENAME VL BASIC | C6: =$F$2&"BIC/"&D37 -> https://els1-my.sharepoint.com/personal/j_mussche_larcier-intersentia_be/Documents/Bureau/[Forfaitaire binnenlandse dagvergoediBIC/Forfaitaire binnenlandse dagvergoeding.xlsx | E6: =LEN(C6) -> 174
B7: FILENAME WA BASIC | C7: =$F$2&"BIC/"&D46 -> https://els1-my.sharepoint.com/personal/j_mussche_larcier-intersentia_be/Documents/Bureau/[Forfaitaire binnenlandse dagvergoediBIC/ Indemnité journalière forfaitaire pour un déplacement en Belgique.xlsx | E7: =LEN(C7) -> 202
B9: TAG plakken in properties
B10: =D35&"-"&D44&"-"&D14&"-"&D23 -> 473247-473246-422472-422558
B12: TAXIQ
B13: Update tool
B14: VL | C14: ID | D14: 422472
C15: Titel | D15: Forfaitaire binnenlandse dagvergoeding
C16: Filename | D16: Forfaitaire binnenlandse dagvergoeding.xlsx
C17: Minor/Major? | D17: Major
C18: Wijziging inleiding? | D18: Neen
C19: Nieuwe zaken voor taalcheck/vertaling? | D19: Neen
C20: Inhoudelijke info voor de redactie? | D20: nieuwe tarief toegevoegd vanaf 1/9/2026
C21: Update naar xlsx? | D21: Neen
C22: Opmerkingen | D22: Geen taalcheck nodig.
B23: WA | C23: ID | D23: 422558
C24: Titel | D24: Indemnité journalière forfaitaire pour un déplacement en Belgique
C25: Filename | D25: Indemnité journalière forfaitaire pour un déplacement en Belgique.xlsx
C26: Minor/Major? | D26: Major
C27: Wijziging inleiding? | D27: Neen
C28: Nieuwe zaken voor taalcheck/vertaling? | D28: Neen
C29: Inhoudelijke info voor de redactie? | D29: nieuwe tarief toegevoegd vanaf 1/9/2026
C30: Update naar xlsx? | D30: Neen
C31: Opmerkingen | D31: Geen taalcheck nodig.
B33: BASIC
B34: Update tool
B35: VL | C35: ID | D35: 473247
C36: Titel | D36: Forfaitaire binnenlandse dagvergoeding
C37: Finename | D37: Forfaitaire binnenlandse dagvergoeding.xlsx
C38: Minor/Major? | D38: Major
C39: Wijziging inleiding? | D39: Neen
C40: Nieuwe zaken voor taalcheck/vertaling? | D40: Neen
C41: Inhoudelijke info voor de redactie? | D41: nieuwe tarief toegevoegd vanaf 1/9/2026
C42: Update naar xlsx? | D42: Neen
C43: Opmerkingen | D43: Geen taalcheck nodig.
B44: WA | C44: ID | D44: 473246
C45: Titel | D45: Indemnité journalière forfaitaire pour un déplacement en Belgique
C46: Finename | D46: Indemnité journalière forfaitaire pour un déplacement en Belgique.xlsx
C47: Minor/Major? | D47: Major
C48: Wijziging inleiding? | D48: Neen
C49: Nieuwe zaken voor taalcheck/vertaling? | D49: Neen
C50: Inhoudelijke info voor de redactie? | D50: nieuwe tarief toegevoegd vanaf 1/9/2026
C51: Update naar xlsx? | D51: Neen
C52: Opmerkingen | D52: Geen taalcheck nodig.
